BEGIN:VCALENDAR
VERSION:2.0
PRODID:-//Katameya Dunes - ECPv6.15.20//NONSGML v1.0//EN
CALSCALE:GREGORIAN
METHOD:PUBLISH
X-WR-CALNAME:Katameya Dunes
X-ORIGINAL-URL:https://katameyadunes.com
X-WR-CALDESC:Events for Katameya Dunes
REFRESH-INTERVAL;VALUE=DURATION:PT1H
X-Robots-Tag:noindex
X-PUBLISHED-TTL:PT1H
BEGIN:VTIMEZONE
TZID:Europe/Helsinki
BEGIN:DAYLIGHT
TZOFFSETFROM:+0200
TZOFFSETTO:+0300
TZNAME:EEST
DTSTART:20250330T010000
END:DAYLIGHT
BEGIN:STANDARD
TZOFFSETFROM:+0300
TZOFFSETTO:+0200
TZNAME:EET
DTSTART:20251026T010000
END:STANDARD
BEGIN:DAYLIGHT
TZOFFSETFROM:+0200
TZOFFSETTO:+0300
TZNAME:EEST
DTSTART:20260329T010000
END:DAYLIGHT
BEGIN:STANDARD
TZOFFSETFROM:+0300
TZOFFSETTO:+0200
TZNAME:EET
DTSTART:20261025T010000
END:STANDARD
BEGIN:DAYLIGHT
TZOFFSETFROM:+0200
TZOFFSETTO:+0300
TZNAME:EEST
DTSTART:20270328T010000
END:DAYLIGHT
BEGIN:STANDARD
TZOFFSETFROM:+0300
TZOFFSETTO:+0200
TZNAME:EET
DTSTART:20271031T010000
END:STANDARD
END:VTIMEZONE
BEGIN:VEVENT
DTSTART;VALUE=DATE:20260508
DTEND;VALUE=DATE:20260509
DTSTAMP:20260422T002442
CREATED:20251212T141103Z
LAST-MODIFIED:20260214T170957Z
UID:3150-1778198400-1778284799@katameyadunes.com
SUMMARY:12th Katameya Challenge Cup (Dunes vs. Heights) 1 st Day @ K. Heights
DESCRIPTION:
URL:https://katameyadunes.com/event/12th-katameya-challenge-cup-dunes-vs-heights/
END:VEVENT
BEGIN:VEVENT
DTSTART;VALUE=DATE:20260509
DTEND;VALUE=DATE:20260510
DTSTAMP:20260422T002442
CREATED:20251212T141449Z
LAST-MODIFIED:20260214T171014Z
UID:3151-1778284800-1778371199@katameyadunes.com
SUMMARY:12th Katameya Challenge Cup (Dunes vs. Heights) 2nd day @ K. Dunes
DESCRIPTION:
URL:https://katameyadunes.com/event/12th-katameya-challenge-cup-dunes-vs-heights-2nd-day-k-dunes/
END:VEVENT
BEGIN:VEVENT
DTSTART;VALUE=DATE:20260522
DTEND;VALUE=DATE:20260523
DTSTAMP:20260422T002442
CREATED:20251212T141644Z
LAST-MODIFIED:20251212T141644Z
UID:3157-1779408000-1779494399@katameyadunes.com
SUMMARY:May Monthly Medal
DESCRIPTION:
URL:https://katameyadunes.com/event/may-monthly-medal-4/
END:VEVENT
BEGIN:VEVENT
DTSTART;VALUE=DATE:20260527
DTEND;VALUE=DATE:20260528
DTSTAMP:20260422T002442
CREATED:20260214T171127Z
LAST-MODIFIED:20260214T171127Z
UID:3862-1779840000-1779926399@katameyadunes.com
SUMMARY:CAC Challenge
DESCRIPTION:
URL:https://katameyadunes.com/event/cac-challenge/
END:VEVENT
BEGIN:VEVENT
DTSTART;VALUE=DATE:20260529
DTEND;VALUE=DATE:20260530
DTSTAMP:20260422T002442
CREATED:20260214T171216Z
LAST-MODIFIED:20260214T171331Z
UID:3864-1780012800-1780099199@katameyadunes.com
SUMMARY:CAC Challenge
DESCRIPTION:
URL:https://katameyadunes.com/event/cac-challenge-2/
END:VEVENT
END:VCALENDAR