BEGIN:VCALENDAR
VERSION:2.0
PRODID:-//Katameya Dunes - ECPv6.15.20//NONSGML v1.0//EN
CALSCALE:GREGORIAN
METHOD:PUBLISH
X-WR-CALNAME:Katameya Dunes
X-ORIGINAL-URL:https://katameyadunes.com
X-WR-CALDESC:Events for Katameya Dunes
REFRESH-INTERVAL;VALUE=DURATION:PT1H
X-Robots-Tag:noindex
X-PUBLISHED-TTL:PT1H
BEGIN:VTIMEZONE
TZID:Europe/Helsinki
BEGIN:DAYLIGHT
TZOFFSETFROM:+0200
TZOFFSETTO:+0300
TZNAME:EEST
DTSTART:20250330T010000
END:DAYLIGHT
BEGIN:STANDARD
TZOFFSETFROM:+0300
TZOFFSETTO:+0200
TZNAME:EET
DTSTART:20251026T010000
END:STANDARD
BEGIN:DAYLIGHT
TZOFFSETFROM:+0200
TZOFFSETTO:+0300
TZNAME:EEST
DTSTART:20260329T010000
END:DAYLIGHT
BEGIN:STANDARD
TZOFFSETFROM:+0300
TZOFFSETTO:+0200
TZNAME:EET
DTSTART:20261025T010000
END:STANDARD
BEGIN:DAYLIGHT
TZOFFSETFROM:+0200
TZOFFSETTO:+0300
TZNAME:EEST
DTSTART:20270328T010000
END:DAYLIGHT
BEGIN:STANDARD
TZOFFSETFROM:+0300
TZOFFSETTO:+0200
TZNAME:EET
DTSTART:20271031T010000
END:STANDARD
END:VTIMEZONE
BEGIN:VEVENT
DTSTART;VALUE=DATE:20260710
DTEND;VALUE=DATE:20260711
DTSTAMP:20260422T033702
CREATED:20260316T190532Z
LAST-MODIFIED:20260316T190532Z
UID:4413-1783641600-1783727999@katameyadunes.com
SUMMARY:July Monthly Medal
DESCRIPTION:
URL:https://katameyadunes.com/event/july-monthly-medal-7/
END:VEVENT
BEGIN:VEVENT
DTSTART;VALUE=DATE:20260718
DTEND;VALUE=DATE:20260719
DTSTAMP:20260422T033702
CREATED:20260316T190614Z
LAST-MODIFIED:20260316T190614Z
UID:4415-1784332800-1784419199@katameyadunes.com
SUMMARY:The OPEN (Claret Jug)
DESCRIPTION:
URL:https://katameyadunes.com/event/the-open-claret-jug/
END:VEVENT
END:VCALENDAR