BEGIN:VCALENDAR
VERSION:2.0
PRODID:-//Katameya Dunes - ECPv6.15.20//NONSGML v1.0//EN
CALSCALE:GREGORIAN
METHOD:PUBLISH
X-ORIGINAL-URL:https://katameyadunes.com
X-WR-CALDESC:Events for Katameya Dunes
REFRESH-INTERVAL;VALUE=DURATION:PT1H
X-Robots-Tag:noindex
X-PUBLISHED-TTL:PT1H
BEGIN:VTIMEZONE
TZID:Europe/Helsinki
BEGIN:DAYLIGHT
TZOFFSETFROM:+0200
TZOFFSETTO:+0300
TZNAME:EEST
DTSTART:20250330T010000
END:DAYLIGHT
BEGIN:STANDARD
TZOFFSETFROM:+0300
TZOFFSETTO:+0200
TZNAME:EET
DTSTART:20251026T010000
END:STANDARD
BEGIN:DAYLIGHT
TZOFFSETFROM:+0200
TZOFFSETTO:+0300
TZNAME:EEST
DTSTART:20260329T010000
END:DAYLIGHT
BEGIN:STANDARD
TZOFFSETFROM:+0300
TZOFFSETTO:+0200
TZNAME:EET
DTSTART:20261025T010000
END:STANDARD
BEGIN:DAYLIGHT
TZOFFSETFROM:+0200
TZOFFSETTO:+0300
TZNAME:EEST
DTSTART:20270328T010000
END:DAYLIGHT
BEGIN:STANDARD
TZOFFSETFROM:+0300
TZOFFSETTO:+0200
TZNAME:EET
DTSTART:20271031T010000
END:STANDARD
END:VTIMEZONE
BEGIN:VEVENT
DTSTART;VALUE=DATE:20261010
DTEND;VALUE=DATE:20261011
DTSTAMP:20260422T084733
CREATED:20260316T190851Z
LAST-MODIFIED:20260316T190851Z
UID:4423-1791590400-1791676799@katameyadunes.com
SUMMARY:FALDO Tee Challenge
DESCRIPTION:
URL:https://katameyadunes.com/event/faldo-tee-challenge-3/
END:VEVENT
BEGIN:VEVENT
DTSTART;VALUE=DATE:20261017
DTEND;VALUE=DATE:20261018
DTSTAMP:20260422T084733
CREATED:20260316T190927Z
LAST-MODIFIED:20260316T190927Z
UID:4425-1792195200-1792281599@katameyadunes.com
SUMMARY:October Monthly Medal
DESCRIPTION:
URL:https://katameyadunes.com/event/october-monthly-medal-8/
END:VEVENT
BEGIN:VEVENT
DTSTART;VALUE=DATE:20261031
DTEND;VALUE=DATE:20261101
DTSTAMP:20260422T084733
CREATED:20260316T191004Z
LAST-MODIFIED:20260316T191004Z
UID:4427-1793404800-1793491199@katameyadunes.com
SUMMARY:The Westin Katameya Dunes Charity Scramble
DESCRIPTION:
URL:https://katameyadunes.com/event/the-westin-katameya-dunes-charity-scramble-3/
END:VEVENT
END:VCALENDAR