BEGIN:VCALENDAR
VERSION:2.0
PRODID:-//Katameya Dunes - ECPv6.15.20//NONSGML v1.0//EN
CALSCALE:GREGORIAN
METHOD:PUBLISH
X-WR-CALNAME:Katameya Dunes
X-ORIGINAL-URL:https://katameyadunes.com
X-WR-CALDESC:Events for Katameya Dunes
REFRESH-INTERVAL;VALUE=DURATION:PT1H
X-Robots-Tag:noindex
X-PUBLISHED-TTL:PT1H
BEGIN:VTIMEZONE
TZID:Europe/Helsinki
BEGIN:DAYLIGHT
TZOFFSETFROM:+0200
TZOFFSETTO:+0300
TZNAME:EEST
DTSTART:20250330T010000
END:DAYLIGHT
BEGIN:STANDARD
TZOFFSETFROM:+0300
TZOFFSETTO:+0200
TZNAME:EET
DTSTART:20251026T010000
END:STANDARD
BEGIN:DAYLIGHT
TZOFFSETFROM:+0200
TZOFFSETTO:+0300
TZNAME:EEST
DTSTART:20260329T010000
END:DAYLIGHT
BEGIN:STANDARD
TZOFFSETFROM:+0300
TZOFFSETTO:+0200
TZNAME:EET
DTSTART:20261025T010000
END:STANDARD
BEGIN:DAYLIGHT
TZOFFSETFROM:+0200
TZOFFSETTO:+0300
TZNAME:EEST
DTSTART:20270328T010000
END:DAYLIGHT
BEGIN:STANDARD
TZOFFSETFROM:+0300
TZOFFSETTO:+0200
TZNAME:EET
DTSTART:20271031T010000
END:STANDARD
END:VTIMEZONE
BEGIN:VEVENT
DTSTART;VALUE=DATE:20261106
DTEND;VALUE=DATE:20261107
DTSTAMP:20260422T102802
CREATED:20260316T191041Z
LAST-MODIFIED:20260316T191041Z
UID:4429-1793923200-1794009599@katameyadunes.com
SUMMARY:Club Championship
DESCRIPTION:
URL:https://katameyadunes.com/event/club-championship-3/
END:VEVENT
BEGIN:VEVENT
DTSTART;VALUE=DATE:20261107
DTEND;VALUE=DATE:20261108
DTSTAMP:20260422T102802
CREATED:20260316T191121Z
LAST-MODIFIED:20260316T191121Z
UID:4431-1794009600-1794095999@katameyadunes.com
SUMMARY:Club Championship
DESCRIPTION:
URL:https://katameyadunes.com/event/club-championship-4/
END:VEVENT
BEGIN:VEVENT
DTSTART;VALUE=DATE:20261113
DTEND;VALUE=DATE:20261114
DTSTAMP:20260422T102802
CREATED:20260316T191206Z
LAST-MODIFIED:20260316T191206Z
UID:4433-1794528000-1794614399@katameyadunes.com
SUMMARY:November Monthly Medal
DESCRIPTION:
URL:https://katameyadunes.com/event/november-monthly-medal-8/
END:VEVENT
BEGIN:VEVENT
DTSTART;VALUE=DATE:20261128
DTEND;VALUE=DATE:20261129
DTSTAMP:20260422T102802
CREATED:20260316T191236Z
LAST-MODIFIED:20260316T191236Z
UID:4435-1795824000-1795910399@katameyadunes.com
SUMMARY:Year End members appreciation
DESCRIPTION:
URL:https://katameyadunes.com/event/year-end-members-appreciation-2/
END:VEVENT
END:VCALENDAR